BEGIN:VCALENDAR
VERSION:2.0
PRODID:-//Long X Arts Foundation - ECPv5.10.0//NONSGML v1.0//EN
CALSCALE:GREGORIAN
METHOD:PUBLISH
X-WR-CALNAME:Long X Arts Foundation
X-ORIGINAL-URL:https://longxarts.com
X-WR-CALDESC:Events for Long X Arts Foundation
BEGIN:VTIMEZONE
TZID:America/Chicago
BEGIN:DAYLIGHT
TZOFFSETFROM:-0600
TZOFFSETTO:-0500
TZNAME:CDT
DTSTART:20260308T080000
END:DAYLIGHT
BEGIN:STANDARD
TZOFFSETFROM:-0500
TZOFFSETTO:-0600
TZNAME:CST
DTSTART:20261101T070000
END:STANDARD
END:VTIMEZONE
BEGIN:VEVENT
DTSTART;TZID=America/Chicago:20260309T100000
DTEND;TZID=America/Chicago:20260418T170000
DTSTAMP:20260423T221641
CREATED:20260305T232211Z
LAST-MODIFIED:20260305T232211Z
UID:7846-1773050400-1776531600@longxarts.com
SUMMARY:Watford City High School Student Art Sho
DESCRIPTION:Join us in celebrating the growth and hard work of our skilled young artists! Browse their art exhibit in our gallery featuring ceramics\, clay\, drawings\, paintings and mixed media art from WCHS Art Students. \nThe Student Art Show will be up and on display March 9 – April 18.Free and open to the public\, M-Sat | 10 am – 5 pmThe Gallery at Long X in the lower level of the Visitor Center
URL:https://longxarts.com/event/watford-city-high-school-student-art-sho/
LOCATION:Long X Arts Foundation Gallery\, 100 2nd Ave SW\, Watford City\, ND\, 58854\, United States
CATEGORIES:Events,Gallery Show
ATTACH;FMTTYPE=image/jpeg:https://longxarts.com/wp-content/uploads/2024/08/WC-Wolves.jpg
END:VEVENT
END:VCALENDAR