BEGIN:VCALENDAR
VERSION:2.0
PRODID:-//Long X Arts Foundation - ECPv5.10.0//NONSGML v1.0//EN
CALSCALE:GREGORIAN
METHOD:PUBLISH
X-WR-CALNAME:Long X Arts Foundation
X-ORIGINAL-URL:https://longxarts.com
X-WR-CALDESC:Events for Long X Arts Foundation
BEGIN:VTIMEZONE
TZID:America/Chicago
BEGIN:DAYLIGHT
TZOFFSETFROM:-0600
TZOFFSETTO:-0500
TZNAME:CDT
DTSTART:20240310T080000
END:DAYLIGHT
BEGIN:STANDARD
TZOFFSETFROM:-0500
TZOFFSETTO:-0600
TZNAME:CST
DTSTART:20241103T070000
END:STANDARD
END:VTIMEZONE
BEGIN:VEVENT
DTSTART;TZID=America/Chicago:20240618T100000
DTEND;TZID=America/Chicago:20240620T120000
DTSTAMP:20260425T170508
CREATED:20240509T145312Z
LAST-MODIFIED:20240523T192723Z
UID:5767-1718704800-1718884800@longxarts.com
SUMMARY:Summer Art Camp: Sweet Summer Days
DESCRIPTION:Join us from 10am-12pm Tuesday through Thursday for this drop-off art camp featuring all things summer! \nSign your kiddo up for an afternoon of painting\, sculpting\, and ceramics fun! We here at the Long X Arts Foundation create original art programming that is catered to your child(ren)’s needs\, interests\, and abilities to create a fun\, engaging introduction to many different art mediums and experiences. This camp’s projects will all be focused around the theme of Sweet Summer Days\, and may include ceramics\, painting\, sculpture\, fiber arts\, printmaking\, and many more mediums. \nTuesday-Thursday\, 10 am – 12 pm \nMultiple-Child Discounts available. Ask about our scholarship program \nThis is a drop-off camp that includes an Art Show at pick-up on the last day (Thursday at 12pm) and a FREE T-shirt that we’ll get to tie-dye! All children must have completed Kindergarten at the time of registration. \nCamp caters to grades K-8th grade.
URL:https://longxarts.com/event/summer-art-camp-sweet-summer-days/
LOCATION:Long X Art Gallery\, 100 2nd Avenue Southwest\, Watford City\, ND\, 58854\, United States
CATEGORIES:Class,In-Person
ATTACH;FMTTYPE=image/jpeg:https://longxarts.com/wp-content/uploads/2024/05/Sweet-Summer-Days.jpeg
END:VEVENT
END:VCALENDAR