BEGIN:VCALENDAR
VERSION:2.0
PRODID:-//Long X Arts Foundation - ECPv5.10.0//NONSGML v1.0//EN
CALSCALE:GREGORIAN
METHOD:PUBLISH
X-WR-CALNAME:Long X Arts Foundation
X-ORIGINAL-URL:https://longxarts.com
X-WR-CALDESC:Events for Long X Arts Foundation
BEGIN:VTIMEZONE
TZID:America/Chicago
BEGIN:DAYLIGHT
TZOFFSETFROM:-0600
TZOFFSETTO:-0500
TZNAME:CDT
DTSTART:20210314T080000
END:DAYLIGHT
BEGIN:STANDARD
TZOFFSETFROM:-0500
TZOFFSETTO:-0600
TZNAME:CST
DTSTART:20211107T070000
END:STANDARD
END:VTIMEZONE
BEGIN:VEVENT
DTSTART;TZID=America/Chicago:20210515T180000
DTEND;TZID=America/Chicago:20210515T200000
DTSTAMP:20260421T061935
CREATED:20210428T191803Z
LAST-MODIFIED:20210505T202601Z
UID:1997-1621101600-1621108800@longxarts.com
SUMMARY:Scandinavian Folk Art Class and Norwegian Treats
DESCRIPTION:It’s Syttende Mai! Customize this Scandinavian wooden wallhanging with your favorite colors\, family name & more! Norwegian treats provided!\n\n\nCelebrate Syttende Mai with the Pioneer Museum and Long  X Arts. Customize a 9×12 Wooden Wallhanging with your favorite colors\, design arrangement\, family name\, Norwegian saying or whatever your Norske heart desires.  \nMiss Mary will provide stencils\, guidance and supplies and the Pioneer Museum will provide traditional Norwegian treats. Non-alcoholic Refreshments will be provided\, but you can bring your own spirits if you’d like! \nWe only have 10 spots available\, so grab a friend and register today!
URL:https://longxarts.com/event/scandinavian-folk-art-class-and-norwegian-treats/
LOCATION:Pioneer Museum-McKenzie County\, 100 2nd Avenue Southwest\, Watford City\, ND\, 58854\, United States
CATEGORIES:Class,In-Person
ATTACH;FMTTYPE=image/jpeg:https://longxarts.com/wp-content/uploads/2021/04/e4acf182166ff1e01fe9fc562e576d87.jpg
END:VEVENT
END:VCALENDAR