BEGIN:VCALENDAR
VERSION:2.0
PRODID:-//Long X Arts Foundation - ECPv5.10.0//NONSGML v1.0//EN
CALSCALE:GREGORIAN
METHOD:PUBLISH
X-WR-CALNAME:Long X Arts Foundation
X-ORIGINAL-URL:https://longxarts.com
X-WR-CALDESC:Events for Long X Arts Foundation
BEGIN:VTIMEZONE
TZID:America/Chicago
BEGIN:DAYLIGHT
TZOFFSETFROM:-0600
TZOFFSETTO:-0500
TZNAME:CDT
DTSTART:20240310T080000
END:DAYLIGHT
BEGIN:STANDARD
TZOFFSETFROM:-0500
TZOFFSETTO:-0600
TZNAME:CST
DTSTART:20241103T070000
END:STANDARD
END:VTIMEZONE
BEGIN:VEVENT
DTSTART;TZID=America/Chicago:20240405T170000
DTEND;TZID=America/Chicago:20240405T190000
DTSTAMP:20260425T220110
CREATED:20240306T192906Z
LAST-MODIFIED:20240306T192915Z
UID:5521-1712336400-1712343600@longxarts.com
SUMMARY:Rainbow Candle Dipping Class
DESCRIPTION:Learn the art of hand-dipping candles. Miss Jess will guide you through the steps\, and add layers of color for a touch of fun! \nJust $15 a person for a set of two candles. All supplies and materials are included. Ages 6+ recommended with adult supervision.
URL:https://longxarts.com/event/rainbow-candle-dipping-class/
LOCATION:Long X Art Gallery\, 100 2nd Avenue Southwest\, Watford City\, ND\, 58854\, United States
CATEGORIES:Class,In-Person
ATTACH;FMTTYPE=image/jpeg:https://longxarts.com/wp-content/uploads/2023/01/Rainbow-Hand-Dipped-Candles.jpg
ORGANIZER;CN="Long%20X%20Arts%20Foundation":MAILTO:longxart@gmail.com
END:VEVENT
END:VCALENDAR