BEGIN:VCALENDAR
VERSION:2.0
PRODID:-//Long X Arts Foundation - ECPv5.10.0//NONSGML v1.0//EN
CALSCALE:GREGORIAN
METHOD:PUBLISH
X-WR-CALNAME:Long X Arts Foundation
X-ORIGINAL-URL:https://longxarts.com
X-WR-CALDESC:Events for Long X Arts Foundation
BEGIN:VTIMEZONE
TZID:America/Chicago
BEGIN:DAYLIGHT
TZOFFSETFROM:-0600
TZOFFSETTO:-0500
TZNAME:CDT
DTSTART:20240310T080000
END:DAYLIGHT
BEGIN:STANDARD
TZOFFSETFROM:-0500
TZOFFSETTO:-0600
TZNAME:CST
DTSTART:20241103T070000
END:STANDARD
END:VTIMEZONE
BEGIN:VEVENT
DTSTART;TZID=America/Chicago:20241102T110000
DTEND;TZID=America/Chicago:20241102T123000
DTSTAMP:20260425T113839
CREATED:20241021T191305Z
LAST-MODIFIED:20241021T191305Z
UID:6419-1730545200-1730550600@longxarts.com
SUMMARY:Pumpkin Muffin Baking Class
DESCRIPTION:Beginners and baking enthusiasts learn a delicious and homemade\, seasonal recipe. All ingredients and equipment provided. Enjoy complementary drinks and receive 6 muffins\, plus the recipe to take home.\nChoose from two different time slots:\nClass One: 11 am – 12:30 pm\nClass Two: 4:00 – 5:30 pm\nRecommended ages 10+
URL:https://longxarts.com/event/pumpkin-muffin-baking-class/
LOCATION:The Merc\, 100 2nd Ave SW\, Watford City\, ND\, 58854\, United States
CATEGORIES:Class,Events,Holiday
ATTACH;FMTTYPE=image/jpeg:https://longxarts.com/wp-content/uploads/2024/10/Pumpkin-Muffin-Class-copy.jpg
ORGANIZER;CN="Long%20X%20Arts%20Foundation":MAILTO:longxart@gmail.com
END:VEVENT
END:VCALENDAR