BEGIN:VCALENDAR
VERSION:2.0
PRODID:-//Long X Arts Foundation - ECPv5.10.0//NONSGML v1.0//EN
CALSCALE:GREGORIAN
METHOD:PUBLISH
X-WR-CALNAME:Long X Arts Foundation
X-ORIGINAL-URL:https://longxarts.com
X-WR-CALDESC:Events for Long X Arts Foundation
BEGIN:VTIMEZONE

END:VTIMEZONE
BEGIN:VEVENT
DTSTART;TZID=America/Chicago:20260419T073806
DTEND;TZID=America/Chicago:20250824T170000
DTSTAMP:20260419T073806
CREATED:20250611T170128Z
LAST-MODIFIED:20250611T170128Z
UID:7225-0-1756054800@longxarts.com
SUMMARY:Private Guitar Lessons
DESCRIPTION:Private lessons to amplify your skills. \nJoin local musician Dave Cooper for private guitar lessons in the Long X Arts Gallery \nAvailable Courses: \n\nElectric Guitar\nAcoustic Guitar\nBass Guitar\n\nLessons for All Skill Levels Ages 10 & UP \nChoose time slots on two dates\nSaturday\, July 26 | 1-5 PM\nSaturday\, August 24 | 1 – 5 PM \n$90 per 1 hour session.\nGuitar Rentals Available \nFor more information or questions contact Dave\n701-317-5719
URL:https://longxarts.com/event/private-guitar-lessons-2/
LOCATION:Long X Arts Foundation Gallery\, 100 2nd Ave SW\, Watford City\, ND\, 58854\, United States
CATEGORIES:Class,In-Person
ATTACH;FMTTYPE=image/png:https://longxarts.com/wp-content/uploads/2025/06/Screenshot-2025-06-11-at-11.57.30-AM.png
END:VEVENT
END:VCALENDAR