BEGIN:VCALENDAR
VERSION:2.0
PRODID:-//Long X Arts Foundation - ECPv5.10.0//NONSGML v1.0//EN
CALSCALE:GREGORIAN
METHOD:PUBLISH
X-WR-CALNAME:Long X Arts Foundation
X-ORIGINAL-URL:https://longxarts.com
X-WR-CALDESC:Events for Long X Arts Foundation
BEGIN:VTIMEZONE
TZID:America/Chicago
BEGIN:DAYLIGHT
TZOFFSETFROM:-0600
TZOFFSETTO:-0500
TZNAME:CDT
DTSTART:20260308T080000
END:DAYLIGHT
BEGIN:STANDARD
TZOFFSETFROM:-0500
TZOFFSETTO:-0600
TZNAME:CST
DTSTART:20261101T070000
END:STANDARD
END:VTIMEZONE
BEGIN:VEVENT
DTSTART;TZID=America/Chicago:20260402T160000
DTEND;TZID=America/Chicago:20260402T200000
DTSTAMP:20260424T011109
CREATED:20251028T184714Z
LAST-MODIFIED:20260327T140829Z
UID:7525-1775145600-1775160000@longxarts.com
SUMMARY:Paints and Pencils Open Studio-April
DESCRIPTION:🎨 Open Studio at Long X Art Center \nLooking for a creative space to paint\, draw\, and connect? Join us for Open Studio\, a relaxed time for artists of all levels to create\, share ideas\, and enjoy being part of a supportive art community. \nBring your own project\, or start something new using our watercolor\, acrylic\, graphite\, or charcoal supplies. This is a non-instructional\, self-guided session — but Oksana will be around if you need a little help or feedback along the way. \nWhether you’re just getting started or have years of experience\, everyone is welcome here. Being an artist can sometimes feel lonely\, but creating together helps us all grow and stay inspired. \nBy donation • All are welcome\nCome as you are\, create what you love\, and enjoy the company of fellow artists. 💛
URL:https://longxarts.com/event/paints-and-pencils-open-studio/
LOCATION:Long X Arts Foundation Gallery\, 100 2nd Ave SW\, Watford City\, ND\, 58854\, United States
CATEGORIES:Class,In-Person
ATTACH;FMTTYPE=image/png:https://longxarts.com/wp-content/uploads/2025/10/Artist-Open-Studio.png
END:VEVENT
END:VCALENDAR