BEGIN:VCALENDAR
VERSION:2.0
PRODID:-//Long X Arts Foundation - ECPv5.10.0//NONSGML v1.0//EN
CALSCALE:GREGORIAN
METHOD:PUBLISH
X-WR-CALNAME:Long X Arts Foundation
X-ORIGINAL-URL:https://longxarts.com
X-WR-CALDESC:Events for Long X Arts Foundation
BEGIN:VTIMEZONE
TZID:America/Chicago
BEGIN:DAYLIGHT
TZOFFSETFROM:-0600
TZOFFSETTO:-0500
TZNAME:CDT
DTSTART:20260308T080000
END:DAYLIGHT
BEGIN:STANDARD
TZOFFSETFROM:-0500
TZOFFSETTO:-0600
TZNAME:CST
DTSTART:20261101T070000
END:STANDARD
END:VTIMEZONE
BEGIN:VEVENT
DTSTART;TZID=America/Chicago:20260314T100000
DTEND;TZID=America/Chicago:20260314T160000
DTSTAMP:20260424T011116
CREATED:20251028T185535Z
LAST-MODIFIED:20260228T213207Z
UID:7541-1773482400-1773504000@longxarts.com
SUMMARY:Paint Your Own Pottery Open Studio-March
DESCRIPTION:Stop by the gallery to paint a piece of pottery to be glazed and fired in the kiln! \nStop in anytime from 10 am – 4 pm to choose from a variety of different colors and pieces\, from bowls\, figurines\, banks\, boxes\, you name it! It will then be ready to pick up in one week’s time. We will also have some new and fun Christmas/Holiday themed ceramics to choose from! \nMAKE A RESERVATION ONLINE AND GET A $5 DISCOUNT ON POTTERY SELECTION!! \n$25-Pre-Registration\n$30-Walk-ins\nLarger pieces may cost more and can be paid for at time of attendance. \nPaint an ice cream bowl and get free ice cream at The Merc for a year
URL:https://longxarts.com/event/paint-your-own-pottery-open-studio-december/
LOCATION:Long X Arts Foundation Gallery\, 100 2nd Ave SW\, Watford City\, ND\, 58854\, United States
CATEGORIES:Class,Holiday
ATTACH;FMTTYPE=image/png:https://longxarts.com/wp-content/uploads/2025/10/Screenshot-2026-02-28-at-3.31.12 PM.png
END:VEVENT
END:VCALENDAR