BEGIN:VCALENDAR
VERSION:2.0
PRODID:-//Long X Arts Foundation - ECPv5.10.0//NONSGML v1.0//EN
CALSCALE:GREGORIAN
METHOD:PUBLISH
X-WR-CALNAME:Long X Arts Foundation
X-ORIGINAL-URL:https://longxarts.com
X-WR-CALDESC:Events for Long X Arts Foundation
BEGIN:VTIMEZONE
TZID:America/Chicago
BEGIN:DAYLIGHT
TZOFFSETFROM:-0600
TZOFFSETTO:-0500
TZNAME:CDT
DTSTART:20240310T080000
END:DAYLIGHT
BEGIN:STANDARD
TZOFFSETFROM:-0500
TZOFFSETTO:-0600
TZNAME:CST
DTSTART:20241103T070000
END:STANDARD
END:VTIMEZONE
BEGIN:VEVENT
DTSTART;TZID=America/Chicago:20240309T100000
DTEND;TZID=America/Chicago:20240309T170000
DTSTAMP:20260425T220428
CREATED:20240306T182107Z
LAST-MODIFIED:20240306T182107Z
UID:5507-1709978400-1710003600@longxarts.com
SUMMARY:Paint Your Own Pottery-Open Studio #2
DESCRIPTION:Come and see Miss Jess at the Long X Art Gallery to paint a piece of pottery to be glazed and fired in the kiln! \nStop in anytime from 10 am – 4 pm to choose from a variety of different colors and pieces\, from bowls\, figurines\, banks\, boxes\, you name it! It will then be ready to pick up in one week’s time. \nMost pieces are $25\, but larger pieces may cost more and can be paid for at time of attendance. \nNo experience necessary and all supplies are included. \n \n 
URL:https://longxarts.com/event/paint-your-own-pottery-open-studio-2/
LOCATION:Long X Arts Foundation Gallery\, 100 2nd Ave SW\, Watford City\, ND\, 58854\, United States
CATEGORIES:Class,In-Person
ATTACH;FMTTYPE=image/jpeg:https://longxarts.com/wp-content/uploads/2024/03/Paint-your-own-potter.jpeg
ORGANIZER;CN="Long%20X%20Arts%20Foundation":MAILTO:longxart@gmail.com
END:VEVENT
END:VCALENDAR