BEGIN:VCALENDAR
VERSION:2.0
PRODID:-//Long X Arts Foundation - ECPv5.10.0//NONSGML v1.0//EN
CALSCALE:GREGORIAN
METHOD:PUBLISH
X-WR-CALNAME:Long X Arts Foundation
X-ORIGINAL-URL:https://longxarts.com
X-WR-CALDESC:Events for Long X Arts Foundation
BEGIN:VTIMEZONE
TZID:America/Chicago
BEGIN:DAYLIGHT
TZOFFSETFROM:-0600
TZOFFSETTO:-0500
TZNAME:CDT
DTSTART:20220313T080000
END:DAYLIGHT
BEGIN:STANDARD
TZOFFSETFROM:-0500
TZOFFSETTO:-0600
TZNAME:CST
DTSTART:20221106T070000
END:STANDARD
END:VTIMEZONE
BEGIN:VEVENT
DTSTART;TZID=America/Chicago:20220302T183000
DTEND;TZID=America/Chicago:20220302T203000
DTSTAMP:20260419T111756
CREATED:20220210T194841Z
LAST-MODIFIED:20220214T145040Z
UID:3035-1646245800-1646253000@longxarts.com
SUMMARY:Oil Painting Basics
DESCRIPTION:Learn the basics of oil painting with local artist\, Morgan Wagner\n\n\nNo experience necessary\, come ready to learn and have fun playing with paint in the lower level of the Pioneer Museum.
URL:https://longxarts.com/event/oil-painting-basics/
LOCATION:Pioneer Museum-McKenzie County\, 100 2nd Avenue Southwest\, Watford City\, ND\, 58854\, United States
CATEGORIES:Class,In-Person
ATTACH;FMTTYPE=image/jpeg:https://longxarts.com/wp-content/uploads/2022/02/f72d1c6af20dec2c4022376faab92b14.jpg
END:VEVENT
END:VCALENDAR