BEGIN:VCALENDAR
VERSION:2.0
PRODID:-//Long X Arts Foundation - ECPv5.10.0//NONSGML v1.0//EN
CALSCALE:GREGORIAN
METHOD:PUBLISH
X-WR-CALNAME:Long X Arts Foundation
X-ORIGINAL-URL:https://longxarts.com
X-WR-CALDESC:Events for Long X Arts Foundation
BEGIN:VTIMEZONE
TZID:America/Chicago
BEGIN:DAYLIGHT
TZOFFSETFROM:-0600
TZOFFSETTO:-0500
TZNAME:CDT
DTSTART:20250309T080000
END:DAYLIGHT
BEGIN:STANDARD
TZOFFSETFROM:-0500
TZOFFSETTO:-0600
TZNAME:CST
DTSTART:20251102T070000
END:STANDARD
END:VTIMEZONE
BEGIN:VEVENT
DTSTART;TZID=America/Chicago:20250713T150000
DTEND;TZID=America/Chicago:20250713T160000
DTSTAMP:20260420T213531
CREATED:20250323T170703Z
LAST-MODIFIED:20250324T162258Z
UID:6899-1752418800-1752422400@longxarts.com
SUMMARY:Oda Hjertine Voltersvik Pianist Concert
DESCRIPTION:Join us as we welcome internationally renowned Norwegian Pianist Oda Voltersvik in concert in Watford City.  Oda\, “(… ) an extraordinary Scandinavian artist!” (Per Brevig\,  Musicians Club New York)\, has performed at venues and  festivals such as Carnegie Weill Recital Hall\, Victor Borge Hall\, Wigmore Hall\,  St Martin in the Fields\, the Norwegian Opera House\, Palermo Classica  Festival\, Paul Constantinescu International Festival and Bergen International  Festival (May 2025). She has achieved great reviews internationally on her  recordings “Neo” (solo)\, “Firebird” (solo) and “Khoreia” (duo). In 2017\, she  won the first prize of the Bradshaw&Buono International Competition and in  2021 – 2022 she achieved the honorable work grant from the Norwegian Arts  Council. Since her “Master in Performance” from the Royal College of Music  and “Artist Diploma” from Trinity Laban (London\, with distinction from the  Intercollegiate Jury)\, Oda has been managing her Volt&Potenza duo\, Volt  Ensemble and her solo concert tours and projects. Currently\, Oda is often  concert touring and appearing with orchestras in the US with a visa for  “Individuals with extraordinary ability in the arts”.   \nHer recital program for the Long X Arts Foundation  is a contribution to the bicentennial  anniversary in 2025 of the first Norwegian settlers in America. Piano solo  works by Edvard Grieg (1843 – 1907)\, Harald Sæverud (1897 – 1992) and Geir Tveitt (1908 – 1981) will be included.   \nThis opportunity is brought to you in partnership with the local Sons of Norway Chapter.
URL:https://longxarts.com/event/oda-hjertine-voltersvik-pianist-concert/
LOCATION:First Lutheran Church\, Watford City\, ND\, 58854
CATEGORIES:Events
ATTACH;FMTTYPE=image/jpeg:https://longxarts.com/wp-content/uploads/2025/03/Oda-1.jpg
END:VEVENT
END:VCALENDAR