BEGIN:VCALENDAR
VERSION:2.0
PRODID:-//Long X Arts Foundation - ECPv5.10.0//NONSGML v1.0//EN
CALSCALE:GREGORIAN
METHOD:PUBLISH
X-WR-CALNAME:Long X Arts Foundation
X-ORIGINAL-URL:https://longxarts.com
X-WR-CALDESC:Events for Long X Arts Foundation
BEGIN:VTIMEZONE
TZID:America/Chicago
BEGIN:DAYLIGHT
TZOFFSETFROM:-0600
TZOFFSETTO:-0500
TZNAME:CDT
DTSTART:20250309T080000
END:DAYLIGHT
BEGIN:STANDARD
TZOFFSETFROM:-0500
TZOFFSETTO:-0600
TZNAME:CST
DTSTART:20251102T070000
END:STANDARD
END:VTIMEZONE
BEGIN:VEVENT
DTSTART;TZID=America/Chicago:20250208T110000
DTEND;TZID=America/Chicago:20250208T150000
DTSTAMP:20260425T080753
CREATED:20250127T194519Z
LAST-MODIFIED:20250127T194519Z
UID:6694-1739012400-1739026800@longxarts.com
SUMMARY:Mommy and Me Lava Cakes For Two
DESCRIPTION:Grab your favorite little one and learn how to make lava cakes for two with Chloe at The Merc!\nChoose the time slot that works best for you\, whip up the cakes together and enjoy an ice cream or soda while you wait for them to bake.\n$35 per duo. All supplies included\, no experience necessary.Ages 5+ recommended\nA sweet idea for you and your special little one
URL:https://longxarts.com/event/mommy-and-me-lava-cakes-for-two/
LOCATION:The Merc\, 100 2nd Ave SW\, Watford City\, ND\, 58854\, United States
CATEGORIES:Class,Holiday,In-Person
ATTACH;FMTTYPE=image/png:https://longxarts.com/wp-content/uploads/2025/01/Screenshot-2025-01-27-at-1.15.14-PM.png
END:VEVENT
END:VCALENDAR