BEGIN:VCALENDAR
VERSION:2.0
PRODID:-//Long X Arts Foundation - ECPv5.10.0//NONSGML v1.0//EN
CALSCALE:GREGORIAN
METHOD:PUBLISH
X-WR-CALNAME:Long X Arts Foundation
X-ORIGINAL-URL:https://longxarts.com
X-WR-CALDESC:Events for Long X Arts Foundation
BEGIN:VTIMEZONE
TZID:America/Chicago
BEGIN:DAYLIGHT
TZOFFSETFROM:-0600
TZOFFSETTO:-0500
TZNAME:CDT
DTSTART:20230312T080000
END:DAYLIGHT
BEGIN:STANDARD
TZOFFSETFROM:-0500
TZOFFSETTO:-0600
TZNAME:CST
DTSTART:20231105T070000
END:STANDARD
END:VTIMEZONE
BEGIN:VEVENT
DTSTART;TZID=America/Chicago:20231222T140000
DTEND;TZID=America/Chicago:20231222T160000
DTSTAMP:20260425T220428
CREATED:20231031T180624Z
LAST-MODIFIED:20231031T180624Z
UID:5184-1703253600-1703260800@longxarts.com
SUMMARY:Milk and Cookies Mug Class
DESCRIPTION:Join us to paint this adorable mug for your (or Santa’s) milk and cookies! All ages welcome
URL:https://longxarts.com/event/milk-and-cookies-mug-class/
LOCATION:Long X Arts Foundation Gallery\, 100 2nd Ave SW\, Watford City\, ND\, 58854\, United States
CATEGORIES:Class,Holiday,In-Person
ATTACH;FMTTYPE=image/jpeg:https://longxarts.com/wp-content/uploads/2023/10/Dunk-Mug-Snowman.jpg
ORGANIZER;CN="Long%20X%20Arts%20Foundation":MAILTO:longxart@gmail.com
END:VEVENT
END:VCALENDAR