BEGIN:VCALENDAR
VERSION:2.0
PRODID:-//Long X Arts Foundation - ECPv5.10.0//NONSGML v1.0//EN
CALSCALE:GREGORIAN
METHOD:PUBLISH
X-WR-CALNAME:Long X Arts Foundation
X-ORIGINAL-URL:https://longxarts.com
X-WR-CALDESC:Events for Long X Arts Foundation
BEGIN:VTIMEZONE
TZID:America/Chicago
BEGIN:DAYLIGHT
TZOFFSETFROM:-0600
TZOFFSETTO:-0500
TZNAME:CDT
DTSTART:20210314T080000
END:DAYLIGHT
BEGIN:STANDARD
TZOFFSETFROM:-0500
TZOFFSETTO:-0600
TZNAME:CST
DTSTART:20211107T070000
END:STANDARD
END:VTIMEZONE
BEGIN:VEVENT
DTSTART;TZID=America/Chicago:20210521T183000
DTEND;TZID=America/Chicago:20210521T213000
DTSTAMP:20260421T061455
CREATED:20210426T215044Z
LAST-MODIFIED:20210519T031851Z
UID:1954-1621621800-1621632600@longxarts.com
SUMMARY:Floral Chicken Sip 'n Paint-Postponed
DESCRIPTION:This class has been postponed until a later date. \nWatch here for updates! \nWe can’t get enough of chickens around here. And look how pretty she is! Grab your favorite drink and make your own!\n\n\nJoin Mary as she guides you through the steps to create this pretty little hen\, sure to charm every chicken lover in the county! \n12X12 Canvas \nYou can choose to do a black or a white background \nNo experience necessary. \nBYOB\n$35 per person
URL:https://longxarts.com/event/floral-chicken-sip-n-paint/
LOCATION:Rough Rider Center\, 2209 Wolves Den Parkway\, Watford City\, ND\, 58854\, United States
CATEGORIES:In-Person
ATTACH;FMTTYPE=image/jpeg:https://longxarts.com/wp-content/uploads/2021/04/ff6b7b8004c70794d15bc6d2ade41b61.jpg
END:VEVENT
END:VCALENDAR