BEGIN:VCALENDAR
VERSION:2.0
PRODID:-//Long X Arts Foundation - ECPv5.10.0//NONSGML v1.0//EN
CALSCALE:GREGORIAN
METHOD:PUBLISH
X-WR-CALNAME:Long X Arts Foundation
X-ORIGINAL-URL:https://longxarts.com
X-WR-CALDESC:Events for Long X Arts Foundation
BEGIN:VTIMEZONE
TZID:America/Chicago
BEGIN:DAYLIGHT
TZOFFSETFROM:-0600
TZOFFSETTO:-0500
TZNAME:CDT
DTSTART:20240310T080000
END:DAYLIGHT
BEGIN:STANDARD
TZOFFSETFROM:-0500
TZOFFSETTO:-0600
TZNAME:CST
DTSTART:20241103T070000
END:STANDARD
END:VTIMEZONE
BEGIN:VEVENT
DTSTART;TZID=America/Chicago:20240327T180000
DTEND;TZID=America/Chicago:20240327T200000
DTSTAMP:20260425T215825
CREATED:20240306T192609Z
LAST-MODIFIED:20240320T172512Z
UID:5534-1711562400-1711569600@longxarts.com
SUMMARY:Drawing 101-Faces
DESCRIPTION:Join Miss Jess as she guides you through the basics of drawing faces. \nAll supplies included. Recommended 8+\nNo experience necessary.
URL:https://longxarts.com/event/drawing-101-faces/
LOCATION:Long X Art Gallery\, 100 2nd Avenue Southwest\, Watford City\, ND\, 58854\, United States
CATEGORIES:Class,In-Person
ATTACH;FMTTYPE=image/jpeg:https://longxarts.com/wp-content/uploads/2024/03/Drawing-101-1.jpg
ORGANIZER;CN="Long%20X%20Arts%20Foundation":MAILTO:longxart@gmail.com
END:VEVENT
END:VCALENDAR