BEGIN:VCALENDAR
VERSION:2.0
PRODID:-//Long X Arts Foundation - ECPv5.10.0//NONSGML v1.0//EN
CALSCALE:GREGORIAN
METHOD:PUBLISH
X-WR-CALNAME:Long X Arts Foundation
X-ORIGINAL-URL:https://longxarts.com
X-WR-CALDESC:Events for Long X Arts Foundation
BEGIN:VTIMEZONE
TZID:America/Chicago
BEGIN:DAYLIGHT
TZOFFSETFROM:-0600
TZOFFSETTO:-0500
TZNAME:CDT
DTSTART:20240310T080000
END:DAYLIGHT
BEGIN:STANDARD
TZOFFSETFROM:-0500
TZOFFSETTO:-0600
TZNAME:CST
DTSTART:20241103T070000
END:STANDARD
END:VTIMEZONE
BEGIN:VEVENT
DTSTART;TZID=America/Chicago:20240226T183000
DTEND;TZID=America/Chicago:20240226T200000
DTSTAMP:20260425T220243
CREATED:20240221T162055Z
LAST-MODIFIED:20240221T162220Z
UID:5461-1708972200-1708977600@longxarts.com
SUMMARY:Door 204 Open Mic
DESCRIPTION:7 Time Slots\n10 Minutes for each performer\nCall Door 204 to Sign Up!\n701-842-6441
URL:https://longxarts.com/event/door-204-open-mic/
LOCATION:Door 204 Coffee\, 204 Main Street North\, Watford City\, ND\, 58854\, United States
CATEGORIES:Class,Events,In-Person
ATTACH;FMTTYPE=image/jpeg:https://longxarts.com/wp-content/uploads/2024/02/Open-Mic.jpeg
ORGANIZER;CN="Door%20204%20Coffeeshop":MAILTO:door204main@gmail.com
END:VEVENT
END:VCALENDAR