BEGIN:VCALENDAR
VERSION:2.0
PRODID:-//Long X Arts Foundation - ECPv5.10.0//NONSGML v1.0//EN
CALSCALE:GREGORIAN
METHOD:PUBLISH
X-WR-CALNAME:Long X Arts Foundation
X-ORIGINAL-URL:https://longxarts.com
X-WR-CALDESC:Events for Long X Arts Foundation
BEGIN:VTIMEZONE
TZID:America/Chicago
BEGIN:DAYLIGHT
TZOFFSETFROM:-0600
TZOFFSETTO:-0500
TZNAME:CDT
DTSTART:20210314T080000
END:DAYLIGHT
BEGIN:STANDARD
TZOFFSETFROM:-0500
TZOFFSETTO:-0600
TZNAME:CST
DTSTART:20211107T070000
END:STANDARD
END:VTIMEZONE
BEGIN:VEVENT
DTSTART;TZID=America/Chicago:20210612T140000
DTEND;TZID=America/Chicago:20210612T160000
DTSTAMP:20260421T045527
CREATED:20210515T115817Z
LAST-MODIFIED:20210515T120215Z
UID:2200-1623506400-1623513600@longxarts.com
SUMMARY:Create-a-Father's-Day-Gift Class for Kids
DESCRIPTION:Bring your favorite kiddo and we’ll help them personalize this sweet Father’s Day gift for dad!\n\n\nWhether he’s King of the Grill or the World’s Greatest Fisherman\, show dad you care by creating one of these unique\, layered\, wooden wall hangings. Paint or stain them with your favorite colors and assemble them for a unique gift. \nSize is 9 inches across. \n$30 per project \nChose your design \nLimited quantities\, all ages\, register today online or call us at 701-770-8659
URL:https://longxarts.com/event/create-a-fathers-day-gift-class-for-kids/
LOCATION:Rough Rider Center\, 2209 Wolves Den Parkway\, Watford City\, ND\, 58854\, United States
CATEGORIES:In-Person
ATTACH;FMTTYPE=image/jpeg:https://longxarts.com/wp-content/uploads/2021/05/5c902da6c0dd7179756fc81ca515d3fc.jpg
END:VEVENT
END:VCALENDAR