BEGIN:VCALENDAR
VERSION:2.0
PRODID:-//Long X Arts Foundation - ECPv5.10.0//NONSGML v1.0//EN
CALSCALE:GREGORIAN
METHOD:PUBLISH
X-WR-CALNAME:Long X Arts Foundation
X-ORIGINAL-URL:https://longxarts.com
X-WR-CALDESC:Events for Long X Arts Foundation
BEGIN:VTIMEZONE
TZID:America/Chicago
BEGIN:DAYLIGHT
TZOFFSETFROM:-0600
TZOFFSETTO:-0500
TZNAME:CDT
DTSTART:20240310T080000
END:DAYLIGHT
BEGIN:STANDARD
TZOFFSETFROM:-0500
TZOFFSETTO:-0600
TZNAME:CST
DTSTART:20241103T070000
END:STANDARD
END:VTIMEZONE
BEGIN:VEVENT
DTSTART;TZID=America/Chicago:20240319T180000
DTEND;TZID=America/Chicago:20240319T200000
DTSTAMP:20260425T220218
CREATED:20240306T182631Z
LAST-MODIFIED:20240306T182631Z
UID:5517-1710871200-1710878400@longxarts.com
SUMMARY:Clay Garden Marker Class
DESCRIPTION:Come and celebrate spring and growing things by creating your own garden markers to brighten up your yard or flower pots! Whether you have a green thumb\, or are someone who prefers planting a clay flower that can’t wither\, we can help you to brighten your day with these garden planters that you can customize\, make\, and paint yourself. All supplies and materials are included\, and no experience is necessary. Ages 6+ recommended. Each ticket includes 1.5 lbs of clay and instructions. Garden markers will be fired and ready to be picked up in one week’s time. \nSpace is limited\, so grab your ticket and sign up today! \n 
URL:https://longxarts.com/event/clay-garden-marker-class/
LOCATION:Long X Art Gallery\, 100 2nd Avenue Southwest\, Watford City\, ND\, 58854\, United States
CATEGORIES:Class,In-Person
ATTACH;FMTTYPE=image/jpeg:https://longxarts.com/wp-content/uploads/2024/03/Garden-Marker.jpeg
END:VEVENT
END:VCALENDAR