BEGIN:VCALENDAR
VERSION:2.0
PRODID:-//Long X Arts Foundation - ECPv5.10.0//NONSGML v1.0//EN
CALSCALE:GREGORIAN
METHOD:PUBLISH
X-WR-CALNAME:Long X Arts Foundation
X-ORIGINAL-URL:https://longxarts.com
X-WR-CALDESC:Events for Long X Arts Foundation
BEGIN:VTIMEZONE
TZID:America/Chicago
BEGIN:DAYLIGHT
TZOFFSETFROM:-0600
TZOFFSETTO:-0500
TZNAME:CDT
DTSTART:20240310T080000
END:DAYLIGHT
BEGIN:STANDARD
TZOFFSETFROM:-0500
TZOFFSETTO:-0600
TZNAME:CST
DTSTART:20241103T070000
END:STANDARD
END:VTIMEZONE
BEGIN:VEVENT
DTSTART;TZID=America/Chicago:20240813T180000
DTEND;TZID=America/Chicago:20240813T200000
DTSTAMP:20260421T223846
CREATED:20240802T145520Z
LAST-MODIFIED:20240802T145553Z
UID:6112-1723572000-1723579200@longxarts.com
SUMMARY:Clay Charcuterie Board
DESCRIPTION:Join us at Long X Arts as we make a charcuterie board from scratch! \nIn this class\, we’ll learn how to roll out the clay\, add textures\, and glaze your very own charcuterie board\, perfect for serving cheeses and meats to your friends and loved ones. Each person will get 2 lbs of clay. Clay pieces will take two weeks to dry and fire\, and will be ready to be glazed either the same night of creation\, or at a future date during our Paint-Your-Own-Pottery Open Studio days. Space is limited\, so sign up today! Ages 8+ recommended; Cost is $36. Glazing is free
URL:https://longxarts.com/event/clay-charcuterie-board/
LOCATION:Long X Art Gallery\, 100 2nd Avenue Southwest\, Watford City\, ND\, 58854\, United States
CATEGORIES:Class,In-Person
ATTACH;FMTTYPE=image/png:https://longxarts.com/wp-content/uploads/2024/08/Screenshot-2024-08-02-at-9.54.04-AM.png
END:VEVENT
END:VCALENDAR