BEGIN:VCALENDAR
VERSION:2.0
PRODID:-//Long X Arts Foundation - ECPv5.10.0//NONSGML v1.0//EN
CALSCALE:GREGORIAN
METHOD:PUBLISH
X-WR-CALNAME:Long X Arts Foundation
X-ORIGINAL-URL:https://longxarts.com
X-WR-CALDESC:Events for Long X Arts Foundation
BEGIN:VTIMEZONE
TZID:America/Chicago
BEGIN:DAYLIGHT
TZOFFSETFROM:-0600
TZOFFSETTO:-0500
TZNAME:CDT
DTSTART:20260308T080000
END:DAYLIGHT
BEGIN:STANDARD
TZOFFSETFROM:-0500
TZOFFSETTO:-0600
TZNAME:CST
DTSTART:20261101T070000
END:STANDARD
END:VTIMEZONE
BEGIN:VEVENT
DTSTART;TZID=America/Chicago:20260712T100000
DTEND;TZID=America/Chicago:20260712T170000
DTSTAMP:20260422T161327
CREATED:20230504T171335Z
LAST-MODIFIED:20260421T141040Z
UID:3131-1783850400-1783875600@longxarts.com
SUMMARY:Art in the Park 2026
DESCRIPTION:Music\, Family Entertainment\, Local Arts and Crafts\, Kids Hands-On Art Tent and More!\n10 AM – 5 PM @ Tourist Park and First International Bank Gallery\n(Subject to change)\n \n\nArt Vendors at the Park and the First International Bank Gallery All Day\nKid’s Art Tent and Face Painting\n\n10 AM – 5 PM at Tourist Park\n*Free art projects for the kids sponsored by Long X Arts Foundation\n\n\nBaby Pageant\n\n11 AM on Tourist Park Stage\n\n\n\n \n\n The Bubbler\n\n12:00 Noon\n\n\nFoam Party\n\n1-2 PM\nBring a towel and a change of clothes for the kids! They will get wet\, but it will be worth it!\n\n\nHomefest Talent Show\n\n2 PM on Tourist Park Stage\n\n\n\n \n\nFoam Party\n\n3-4 PM\nBring a towel and a change of clothes for the kids! They will get wet\, but it will be worth it!\n\n\nEntertainment (TBA)\n\n3:30-5 PM\n\n\n\nClick Below for Artists and Food Vendor Registration
URL:https://longxarts.com/event/art-in-the-park-2024/
LOCATION:Tourist Park\, Watford City\, ND\, United States
CATEGORIES:Events
ATTACH;FMTTYPE=image/jpeg:https://longxarts.com/wp-content/uploads/2022/02/art-in-the-park-scaled.jpg
ORGANIZER;CN="Long%20X%20Arts%20Foundation":MAILTO:longxart@gmail.com
END:VEVENT
END:VCALENDAR