BEGIN:VCALENDAR
VERSION:2.0
PRODID:-//Long X Arts Foundation - ECPv5.10.0//NONSGML v1.0//EN
CALSCALE:GREGORIAN
METHOD:PUBLISH
X-WR-CALNAME:Long X Arts Foundation
X-ORIGINAL-URL:https://longxarts.com
X-WR-CALDESC:Events for Long X Arts Foundation
BEGIN:VTIMEZONE
TZID:America/Chicago
BEGIN:DAYLIGHT
TZOFFSETFROM:-0600
TZOFFSETTO:-0500
TZNAME:CDT
DTSTART:20240310T080000
END:DAYLIGHT
BEGIN:STANDARD
TZOFFSETFROM:-0500
TZOFFSETTO:-0600
TZNAME:CST
DTSTART:20241103T070000
END:STANDARD
END:VTIMEZONE
BEGIN:VEVENT
DTSTART;TZID=America/Chicago:20240928T130000
DTEND;TZID=America/Chicago:20240928T150000
DTSTAMP:20260425T132331
CREATED:20240831T144331Z
LAST-MODIFIED:20240831T144331Z
UID:6238-1727528400-1727535600@longxarts.com
SUMMARY:Acrylic Galaxy Painting Class
DESCRIPTION:Discover the Universe in Watford City! \nJoin Belinda with Belle Dixon Art on September 28 at the Long X from 1-3 PM for an Acrylic Galaxy Painting class! \nWhether you’re a beginner or an experienced artist\, this workshop will guide you through creating a stunning galaxy scene—no need to worry about supplies\, just bring your creativity! \nReserve your spot today and let’s create something out of this world!
URL:https://longxarts.com/event/acrylic-galaxy-painting-class/
LOCATION:Long X Art Gallery\, 100 2nd Avenue Southwest\, Watford City\, ND\, 58854\, United States
CATEGORIES:Class,In-Person
ATTACH;FMTTYPE=image/png:https://longxarts.com/wp-content/uploads/2024/08/Screenshot-2024-08-31-at-9.37.00-AM.png
ORGANIZER;CN="Long%20X%20Arts%20Foundation":MAILTO:longxart@gmail.com
END:VEVENT
END:VCALENDAR